BEGIN:VCALENDAR
VERSION:2.0
PRODID:-//Mediumistica - ECPv6.15.20//NONSGML v1.0//EN
CALSCALE:GREGORIAN
METHOD:PUBLISH
X-WR-CALNAME:Mediumistica
X-ORIGINAL-URL:https://mediumistica.com
X-WR-CALDESC:Events for Mediumistica
REFRESH-INTERVAL;VALUE=DURATION:PT1H
X-Robots-Tag:noindex
X-PUBLISHED-TTL:PT1H
BEGIN:VTIMEZONE
TZID:America/Halifax
BEGIN:DAYLIGHT
TZOFFSETFROM:-0400
TZOFFSETTO:-0300
TZNAME:ADT
DTSTART:20240310T060000
END:DAYLIGHT
BEGIN:STANDARD
TZOFFSETFROM:-0300
TZOFFSETTO:-0400
TZNAME:AST
DTSTART:20241103T050000
END:STANDARD
BEGIN:DAYLIGHT
TZOFFSETFROM:-0400
TZOFFSETTO:-0300
TZNAME:ADT
DTSTART:20250309T060000
END:DAYLIGHT
BEGIN:STANDARD
TZOFFSETFROM:-0300
TZOFFSETTO:-0400
TZNAME:AST
DTSTART:20251102T050000
END:STANDARD
BEGIN:DAYLIGHT
TZOFFSETFROM:-0400
TZOFFSETTO:-0300
TZNAME:ADT
DTSTART:20260308T060000
END:DAYLIGHT
BEGIN:STANDARD
TZOFFSETFROM:-0300
TZOFFSETTO:-0400
TZNAME:AST
DTSTART:20261101T050000
END:STANDARD
END:VTIMEZONE
BEGIN:VEVENT
DTSTART;TZID=America/Halifax:20251109T080000
DTEND;TZID=America/Halifax:20251109T170000
DTSTAMP:20260423T113635
CREATED:20251030T165546Z
LAST-MODIFIED:20251031T093445Z
UID:10000003-1762675200-1762707600@mediumistica.com
SUMMARY:At Quasi Magni Ut Dignissimos
DESCRIPTION:Sed suscipit maxime nam animi nisi sit amet numquam est magnam enim sit odio dolor ea quibusdam galisum sit magnam minus. Sit nemo officiis ab adipisci quisquam non illum voluptatem qui laudantium laborum ea sequi illum!
URL:https://mediumistica.com/event/at-quasi-magni-ut-dignissimos/
ATTACH;FMTTYPE=image/webp:https://mediumistica.com/wp-content/uploads/2025/10/2190551843.webp
END:VEVENT
BEGIN:VEVENT
DTSTART;TZID=America/Halifax:20251107T080000
DTEND;TZID=America/Halifax:20251107T170000
DTSTAMP:20260423T113635
CREATED:20251030T165525Z
LAST-MODIFIED:20251031T070955Z
UID:10000002-1762502400-1762534800@mediumistica.com
SUMMARY:Sapiente Hic Eius Maiores Qui
DESCRIPTION:Est dignissimos pariatur sit dolores nostrum est veniam consequatur sed provident incidunt qui dolores maxime et vitae iste ut pariatur architecto. Et dolorem quos aut quaerat voluptas a soluta quia et facere perspiciatis qui commodi ducimus est vitae ipsa
URL:https://mediumistica.com/event/sapiente-hic-eius-maiores-qui/
ATTACH;FMTTYPE=image/webp:https://mediumistica.com/wp-content/uploads/2025/10/22.webp
END:VEVENT
BEGIN:VEVENT
DTSTART;TZID=America/Halifax:20251105T080000
DTEND;TZID=America/Halifax:20251105T170000
DTSTAMP:20260423T113635
CREATED:20251030T165444Z
LAST-MODIFIED:20251031T070852Z
UID:10000001-1762329600-1762362000@mediumistica.com
SUMMARY:Qui Magnam Quis Et Quis
DESCRIPTION:Aut nihil consequatur a nemo tempore quo repellendus dolore. Et debitis veritatis qui tenetur corporis non odit quae qui quae architecto? Nam doloribus nemo sed repudiandae dolor qui eius velit aut natus voluptatem est galisum dignissimos.
URL:https://mediumistica.com/event/qui-magnam-quis-et-quis/
ATTACH;FMTTYPE=image/webp:https://mediumistica.com/wp-content/uploads/2025/10/20.webp
END:VEVENT
END:VCALENDAR